BEGIN:VCALENDAR
VERSION:2.0
PRODID:-//Hey! It&#039;s TVA!!! - ECPv4.6.12//NONSGML v1.0//EN
CALSCALE:GREGORIAN
METHOD:PUBLISH
X-WR-CALNAME:Hey! It&#039;s TVA!!!
X-ORIGINAL-URL:https://heyitstva.com
X-WR-CALDESC:Events for Hey! It&#039;s TVA!!!
BEGIN:VEVENT
DTSTART;TZID=UTC-5:20260411T200000
DTEND;TZID=UTC-5:20260411T213000
DTSTAMP:20260422T002803
CREATED:20260409T143637Z
LAST-MODIFIED:20260409T143637Z
UID:8683-1775937600-1775943000@heyitstva.com
SUMMARY:Comedy Night at Cassette\, Ottawa\, ON ($20)
DESCRIPTION:
URL:https://heyitstva.com/event/comedy-night-at-cassette-ottawa-on-20/
LOCATION:2557 Baseline Rd\, Ottawa\, ON\, K2H 7B3\, Canada
END:VEVENT
END:VCALENDAR