BEGIN:VCALENDAR
VERSION:2.0
PRODID:-//Hey! It&#039;s TVA!!! - ECPv4.6.12//NONSGML v1.0//EN
CALSCALE:GREGORIAN
METHOD:PUBLISH
X-WR-CALNAME:Hey! It&#039;s TVA!!!
X-ORIGINAL-URL:https://heyitstva.com
X-WR-CALDESC:Events for Hey! It&#039;s TVA!!!
BEGIN:VEVENT
DTSTART;TZID=UTC-5:20260327T200000
DTEND;TZID=UTC-5:20260327T213000
DTSTAMP:20260422T014820
CREATED:20260107T163527Z
LAST-MODIFIED:20260107T163527Z
UID:8592-1774641600-1774647000@heyitstva.com
SUMMARY:Headlining - Absolute Comedy\, Ottawa\, ON ($25)
DESCRIPTION:
URL:https://heyitstva.com/event/headlining-absolute-comedy-ottawa-on-25/
LOCATION:412 Preston St\, Ottawa\, ON\, K1S 4M9\, Canada
END:VEVENT
BEGIN:VEVENT
DTSTART;TZID=UTC-5:20260327T223000
DTEND;TZID=UTC-5:20260327T235900
DTSTAMP:20260422T014820
CREATED:20260107T163614Z
LAST-MODIFIED:20260107T163614Z
UID:8594-1774650600-1774655940@heyitstva.com
SUMMARY:Headlining - Absolute Comedy\, Ottawa\, ON ($25)
DESCRIPTION:
URL:https://heyitstva.com/event/headlining-absolute-comedy-ottawa-on-25-2/
LOCATION:412 Preston St\, Ottawa\, ON\, K1S 4M9\, Canada
END:VEVENT
END:VCALENDAR