BEGIN:VCALENDAR
VERSION:2.0
PRODID:-//Hey! It&#039;s TVA!!! - ECPv4.6.12//NONSGML v1.0//EN
CALSCALE:GREGORIAN
METHOD:PUBLISH
X-WR-CALNAME:Hey! It&#039;s TVA!!!
X-ORIGINAL-URL:https://heyitstva.com
X-WR-CALDESC:Events for Hey! It&#039;s TVA!!!
BEGIN:VEVENT
DTSTART;TZID=UTC-5:20260325T203000
DTEND;TZID=UTC-5:20260325T220000
DTSTAMP:20260422T014743
CREATED:20260107T163409Z
LAST-MODIFIED:20260107T163409Z
UID:8588-1774470600-1774476000@heyitstva.com
SUMMARY:Headlining - Absolute Comedy\, Ottawa\, ON ($15)
DESCRIPTION:
URL:https://heyitstva.com/event/headlining-absolute-comedy-ottawa-on-15-2/
LOCATION:412 Preston St\, Ottawa\, ON\, K1S 4M9\, Canada
END:VEVENT
END:VCALENDAR