BEGIN:VCALENDAR
VERSION:2.0
PRODID:-//Hey! It&#039;s TVA!!! - ECPv4.6.12//NONSGML v1.0//EN
CALSCALE:GREGORIAN
METHOD:PUBLISH
X-WR-CALNAME:Hey! It&#039;s TVA!!!
X-ORIGINAL-URL:https://heyitstva.com
X-WR-CALDESC:Events for Hey! It&#039;s TVA!!!
BEGIN:VEVENT
DTSTART;TZID=UTC-5:20260305T203000
DTEND;TZID=UTC-5:20260305T220000
DTSTAMP:20260422T014857
CREATED:20260107T162715Z
LAST-MODIFIED:20260107T162715Z
UID:8576-1772742600-1772748000@heyitstva.com
SUMMARY:Headlining - Absolute Comedy\, Toronto\, ON ($15)
DESCRIPTION:
URL:https://heyitstva.com/event/headlining-absolute-comedy-toronto-on-15-3/
LOCATION:2335 Yonge St\, Toronto\, Ontario\, M4P 2C8\, Canada
END:VEVENT
END:VCALENDAR