BEGIN:VCALENDAR
VERSION:2.0
PRODID:-//Hey! It&#039;s TVA!!! - ECPv4.6.12//NONSGML v1.0//EN
CALSCALE:GREGORIAN
METHOD:PUBLISH
X-WR-CALNAME:Hey! It&#039;s TVA!!!
X-ORIGINAL-URL:https://heyitstva.com
X-WR-CALDESC:Events for Hey! It&#039;s TVA!!!
BEGIN:VEVENT
DTSTART;TZID=UTC-5:20251210T203000
DTEND;TZID=UTC-5:20251210T220000
DTSTAMP:20260422T132134
CREATED:20251208T181522Z
LAST-MODIFIED:20251208T181522Z
UID:8548-1765398600-1765404000@heyitstva.com
SUMMARY:Absolute Comedy\, Ottawa\, ON ($15)
DESCRIPTION:
URL:https://heyitstva.com/event/absolute-comedy-ottawa-on-15-19/
LOCATION:412 Preston St\, Ottawa\, ON\, K1S 4M9\, Canada
END:VEVENT
END:VCALENDAR