BEGIN:VCALENDAR
VERSION:2.0
PRODID:-//Hey! It&#039;s TVA!!! - ECPv4.6.12//NONSGML v1.0//EN
CALSCALE:GREGORIAN
METHOD:PUBLISH
X-WR-CALNAME:Hey! It&#039;s TVA!!!
X-ORIGINAL-URL:https://heyitstva.com
X-WR-CALDESC:Events for Hey! It&#039;s TVA!!!
BEGIN:VEVENT
DTSTART;TZID=UTC-5:20251203T200000
DTEND;TZID=UTC-5:20251203T213000
DTSTAMP:20260422T062903
CREATED:20251119T142605Z
LAST-MODIFIED:20251126T203153Z
UID:8500-1764792000-1764797400@heyitstva.com
SUMMARY:Local Bunches of Laughs\, Ottawa\, ON ($5)
DESCRIPTION:
URL:https://heyitstva.com/event/local-bunches-of-laughs-ottawa-on-5/
LOCATION:750 Gladstone Ave\, Ottawa\, ON\, K1R 6X5\, Canada
END:VEVENT
END:VCALENDAR