BEGIN:VCALENDAR
VERSION:2.0
PRODID:-//Hey! It&#039;s TVA!!! - ECPv4.6.12//NONSGML v1.0//EN
CALSCALE:GREGORIAN
METHOD:PUBLISH
X-WR-CALNAME:Hey! It&#039;s TVA!!!
X-ORIGINAL-URL:https://heyitstva.com
X-WR-CALDESC:Events for Hey! It&#039;s TVA!!!
BEGIN:VEVENT
DTSTART;TZID=UTC-5:20250825T203000
DTEND;TZID=UTC-5:20250825T220000
DTSTAMP:20260424T105631
CREATED:20250806T193541Z
LAST-MODIFIED:20250806T193541Z
UID:8420-1756153800-1756159200@heyitstva.com
SUMMARY:Absolute Comedy\, Ottawa\, ON ($10)
DESCRIPTION:
URL:https://heyitstva.com/event/absolute-comedy-ottawa-on-10-11/
LOCATION:412 Preston St\, Ottawa\, ON\, K1S 4M9\, Canada
END:VEVENT
END:VCALENDAR