BEGIN:VCALENDAR
VERSION:2.0
PRODID:-//Hey! It&#039;s TVA!!! - ECPv4.6.12//NONSGML v1.0//EN
CALSCALE:GREGORIAN
METHOD:PUBLISH
X-WR-CALNAME:Hey! It&#039;s TVA!!!
X-ORIGINAL-URL:https://heyitstva.com
X-WR-CALDESC:Events for Hey! It&#039;s TVA!!!
BEGIN:VEVENT
DTSTART;TZID=UTC-5:20250811T200000
DTEND;TZID=UTC-5:20250811T213000
DTSTAMP:20260424T105435
CREATED:20250731T230228Z
LAST-MODIFIED:20250731T230228Z
UID:8408-1754942400-1754947800@heyitstva.com
SUMMARY:Comedy At the Oak - Birthday Edition - Kanata\, ON (Free)
DESCRIPTION:
URL:https://heyitstva.com/event/comedy-at-the-oak-birthday-edition-kanata-on-free/
LOCATION:329 March Rd\, Kanata\, ON\, K2K 2E1\, Canada
END:VEVENT
END:VCALENDAR