BEGIN:VCALENDAR
VERSION:2.0
PRODID:-//Hey! It&#039;s TVA!!! - ECPv4.6.12//NONSGML v1.0//EN
CALSCALE:GREGORIAN
METHOD:PUBLISH
X-WR-CALNAME:Hey! It&#039;s TVA!!!
X-ORIGINAL-URL:https://heyitstva.com
X-WR-CALDESC:Events for Hey! It&#039;s TVA!!!
BEGIN:VEVENT
DTSTART;TZID=UTC-5:20250808T220000
DTEND;TZID=UTC-5:20250808T230000
DTSTAMP:20260424T110932
CREATED:20250806T192042Z
LAST-MODIFIED:20250806T192332Z
UID:8416-1754690400-1754694000@heyitstva.com
SUMMARY:KO Comedy (Online Show)
DESCRIPTION:
URL:https://heyitstva.com/event/ko-comedy-online-show/
END:VEVENT
END:VCALENDAR