BEGIN:VCALENDAR
VERSION:2.0
PRODID:-//Hey! It&#039;s TVA!!! - ECPv4.6.12//NONSGML v1.0//EN
CALSCALE:GREGORIAN
METHOD:PUBLISH
X-WR-CALNAME:Hey! It&#039;s TVA!!!
X-ORIGINAL-URL:https://heyitstva.com
X-WR-CALDESC:Events for Hey! It&#039;s TVA!!!
BEGIN:VEVENT
DTSTART;TZID=UTC-5:20250616T203000
DTEND;TZID=UTC-5:20250616T220000
DTSTAMP:20260424T133557
CREATED:20250605T021918Z
LAST-MODIFIED:20250605T021918Z
UID:8367-1750105800-1750111200@heyitstva.com
SUMMARY:Absolute Comedy - Hosting\, Ottawa\, ON ($10)
DESCRIPTION:
URL:https://heyitstva.com/event/absolute-comedy-hosting-ottawa-on-10-2/
LOCATION:412 Preston St\, Ottawa\, ON\, K1S 4M9\, Canada
END:VEVENT
END:VCALENDAR