BEGIN:VCALENDAR
VERSION:2.0
PRODID:-//Hey! It&#039;s TVA!!! - ECPv4.6.12//NONSGML v1.0//EN
CALSCALE:GREGORIAN
METHOD:PUBLISH
X-WR-CALNAME:Hey! It&#039;s TVA!!!
X-ORIGINAL-URL:https://heyitstva.com
X-WR-CALDESC:Events for Hey! It&#039;s TVA!!!
BEGIN:VEVENT
DTSTART;TZID=UTC-5:20250506T203000
DTEND;TZID=UTC-5:20250506T220000
DTSTAMP:20260424T151645
CREATED:20250306T202903Z
LAST-MODIFIED:20250306T202903Z
UID:8280-1746563400-1746568800@heyitstva.com
SUMMARY:Absolute Comedy\, Ottawa\, ON ($15)
DESCRIPTION:
URL:https://heyitstva.com/event/absolute-comedy-ottawa-on-15-12/
LOCATION:412 Preston St\, Ottawa\, ON\, K1S 4M9\, Canada
END:VEVENT
END:VCALENDAR