BEGIN:VCALENDAR
VERSION:2.0
PRODID:-//Hey! It&#039;s TVA!!! - ECPv4.6.12//NONSGML v1.0//EN
CALSCALE:GREGORIAN
METHOD:PUBLISH
X-WR-CALNAME:Hey! It&#039;s TVA!!!
X-ORIGINAL-URL:https://heyitstva.com
X-WR-CALDESC:Events for Hey! It&#039;s TVA!!!
BEGIN:VEVENT
DTSTART;TZID=UTC-5:20251129T190000
DTEND;TZID=UTC-5:20251129T203000
DTSTAMP:20260421T234629
CREATED:20251015T153840Z
LAST-MODIFIED:20251121T165329Z
UID:8469-1764442800-1764448200@heyitstva.com
SUMMARY:Write Em Up!: Comedy Bar (Bloor St W)\, Toronto\, ON ($25)
DESCRIPTION:Write Em Up returns to its home at Comedy Bar! \nTodd Van Allen hosts a night of comedy where comics perform. All the while a team of writers write roast-jokes about everything the comics say\, do\, whatever. \nTodd then collects the roasts and reads them out. Verbatim. \nIt’s the funnest show in TO! \nComics: \nThomas Calnan\nLuke Lynndale\nRachel Manson\nAda Nicolle\nNile Seguin \nWriters: \nSashka DC\nDerek Forgie\nBrandon Hackett \n  \n
URL:https://heyitstva.com/event/write-em-up-comedy-bar-ossington-toronto-on-tbd/
LOCATION:945 Bloor St W\, Toronto\, Ontario\, M6H 1L5\, Canada
END:VEVENT
END:VCALENDAR