BEGIN:VCALENDAR
VERSION:2.0
PRODID:-//Hey! It&#039;s TVA!!! - ECPv4.6.12//NONSGML v1.0//EN
CALSCALE:GREGORIAN
METHOD:PUBLISH
X-WR-CALNAME:Hey! It&#039;s TVA!!!
X-ORIGINAL-URL:https://heyitstva.com
X-WR-CALDESC:Events for Hey! It&#039;s TVA!!!
BEGIN:VEVENT
DTSTART;TZID=UTC-5:20181123T190000
DTEND;TZID=UTC-5:20181123T190000
DTSTAMP:20260420T103830
CREATED:20181107T173100Z
LAST-MODIFIED:20181107T173100Z
UID:5475-1542999600-1542999600@heyitstva.com
SUMMARY:Comedy Appetizer @ The Remarkable Bean\, Toronto\, ON
DESCRIPTION:
URL:https://heyitstva.com/event/comedy-appetizer-the-remarkable-bean-toronto-on/
LOCATION:1103 Queen St E\, Toronto\, ON\, M4M 1K7\, Canada
GEO:43.6618342;-79.3356383
X-APPLE-STRUCTURED-LOCATION;VALUE=URI;X-ADDRESS=1103 Queen St E Toronto ON M4M 1K7 Canada;X-APPLE-RADIUS=500;X-TITLE=1103 Queen St E:geo:-79.3356383,43.6618342
END:VEVENT
END:VCALENDAR