BEGIN:VCALENDAR
VERSION:2.0
PRODID:-//Hey! It&#039;s TVA!!! - ECPv4.6.12//NONSGML v1.0//EN
CALSCALE:GREGORIAN
METHOD:PUBLISH
X-WR-CALNAME:Hey! It&#039;s TVA!!!
X-ORIGINAL-URL:https://heyitstva.com
X-WR-CALDESC:Events for Hey! It&#039;s TVA!!!
BEGIN:VEVENT
DTSTART;TZID=UTC-5:20240118T203000
DTEND;TZID=UTC-5:20240118T220000
DTSTAMP:20260420T083457
CREATED:20240118T212523Z
LAST-MODIFIED:20240118T212523Z
UID:7871-1705609800-1705615200@heyitstva.com
SUMMARY:Absolute Comedy\, Ottawa\, ON ($15)
DESCRIPTION:
URL:https://heyitstva.com/event/absolute-comedy-ottawa-on-15-9/
LOCATION:412 Preston St\, Ottawa\, ON\, K1S 4M9\, Canada
END:VEVENT
END:VCALENDAR