BEGIN:VCALENDAR
VERSION:2.0
PRODID:-//Hey! It&#039;s TVA!!! - ECPv4.6.12//NONSGML v1.0//EN
CALSCALE:GREGORIAN
METHOD:PUBLISH
X-WR-CALNAME:Hey! It&#039;s TVA!!!
X-ORIGINAL-URL:https://heyitstva.com
X-WR-CALDESC:Events for Hey! It&#039;s TVA!!!
BEGIN:VEVENT
DTSTART;TZID=UTC-5:20240727T200000
DTEND;TZID=UTC-5:20240727T213000
DTSTAMP:20260420T110550
CREATED:20240501T153935Z
LAST-MODIFIED:20240501T153935Z
UID:7997-1722110400-1722115800@heyitstva.com
SUMMARY:Absolute Comedy (Headlining)\, Toronto\, ON ($23)
DESCRIPTION:
URL:https://heyitstva.com/event/absolute-comedy-headlining-toronto-on-23-2/
LOCATION:2335 Yonge St\, Toronto\, Ontario\, M4P 2C8\, Canada
END:VEVENT
END:VCALENDAR